Workbook

Sheet 人员清单模板
A1: 人员清单模板
A2: 填写说明：证件类型为身份证时，生日和性别会根据证件号自动读取；职业请先到“职业查询”工作表筛选搜索，确认后把职业代码填入 F 列，系统会自动回填具体职业、行业/职业细项和职业类别。身份证号会自动检查位数、字符、校验位和出生日期，并在“校验结果”列提示。
A3: 注意：同名工种可能属于不同行业，请务必结合“行业 / 职业细项”确认，不要只看“具体职业”。
A4: 被保险人姓名 | B4: 证件类型 | C4: 证件号 | D4: 生日（身份证自动读取） | E4: 性别（身份证自动读取） | F4: 职业代码 | G4: 具体职业 | H4: 行业 / 职业细项 | I4: 职业类别 | J4: 备注 | K4: 年龄（自动） | L4: 校验结果
D5: =IF($B5<>"身份证","",IF(OR($C5="",LEN($C5)<>18,NOT(ISNUMBER(LEFT($C5,17)+0)),NOT(OR(ISNUMBER(RIGHT($C5,1)+0),UPPER(RIGHT($C5,1))="X"))),"",MID($C5,7,4)&"-"&MID($C5,11,2)&"-"&MID($C5,13,2))) | E5: =IF($D5<>"",IF(MOD(MID($C5,17,1),2)=1,"男","女"),"") | G5: =IFERROR(INDEX('职业数据'!$D:$D,MATCH($F5,'职业数据'!$A:$A,0)),"") | H5: =IFERROR(INDEX('职业数据'!$B:$B,MATCH($F5,'职业数据'!$A:$A,0))&" / "&INDEX('职业数据'!$C:$C,MATCH($F5,'职业数据'!$A:$A,0)),"") | I5: =IFERROR(INDEX('职业数据'!$E:$E,MATCH($F5,'职业数据'!$A:$A,0)),"") | K5: =IF($D5="","",YEAR(TODAY())-VALUE(LEFT($D5,4))-IF(TEXT(TODAY(),"mmdd")<MID($D5,6,2)&MID($D5,9,2),1,0)) | L5: =IF($A5="","",IF($B5="身份证",IF($C5="","待填身份证号",IF(OR(LEN($C5)<>18,NOT(ISNUMBER(LEFT($C5,17)+0)),NOT(OR(ISNUMBER(RIGHT($C5,1)+0),UPPER(RIGHT($C5,1))="X"))),"身份证位数/字符异常",IF(OR(VALUE(MID($C5,11,2))<1,VALUE(MID($C5,11,2))>12,VALUE(MID($C5,13,2))<1,VALUE(MID($C5,13,2))>31),"身份证生日异常",IF(OR($K5<0,$K5>100),"年龄异常","通过")))),IF(OR($D5="",$E5=""),"非身份证请补生日和性别","通过")))
D6: =IF($B6<>"身份证","",IF(OR($C6="",LEN($C6)<>18,NOT(ISNUMBER(LEFT($C6,17)+0)),NOT(OR(ISNUMBER(RIGHT($C6,1)+0),UPPER(RIGHT($C6,1))="X"))),"",MID($C6,7,4)&"-"&MID($C6,11,2)&"-"&MID($C6,13,2))) | E6: =IF($D6<>"",IF(MOD(MID($C6,17,1),2)=1,"男","女"),"") | G6: =IFERROR(INDEX('职业数据'!$D:$D,MATCH($F6,'职业数据'!$A:$A,0)),"") | H6: =IFERROR(INDEX('职业数据'!$B:$B,MATCH($F6,'职业数据'!$A:$A,0))&" / "&INDEX('职业数据'!$C:$C,MATCH($F6,'职业数据'!$A:$A,0)),"") | I6: =IFERROR(INDEX('职业数据'!$E:$E,MATCH($F6,'职业数据'!$A:$A,0)),"") | K6: =IF($D6="","",YEAR(TODAY())-VALUE(LEFT($D6,4))-IF(TEXT(TODAY(),"mmdd")<MID($D6,6,2)&MID($D6,9,2),1,0)) | L6: =IF($A6="","",IF($B6="身份证",IF($C6="","待填身份证号",IF(OR(LEN($C6)<>18,NOT(ISNUMBER(LEFT($C6,17)+0)),NOT(OR(ISNUMBER(RIGHT($C6,1)+0),UPPER(RIGHT($C6,1))="X"))),"身份证位数/字符异常",IF(OR(VALUE(MID($C6,11,2))<1,VALUE(MID($C6,11,2))>12,VALUE(MID($C6,13,2))<1,VALUE(MID($C6,13,2))>31),"身份证生日异常",IF(OR($K6<0,$K6>100),"年龄异常","通过")))),IF(OR($D6="",$E6=""),"非身份证请补生日和性别","通过")))
D7: =IF($B7<>"身份证","",IF(OR($C7="",LEN($C7)<>18,NOT(ISNUMBER(LEFT($C7,17)+0)),NOT(OR(ISNUMBER(RIGHT($C7,1)+0),UPPER(RIGHT($C7,1))="X"))),"",MID($C7,7,4)&"-"&MID($C7,11,2)&"-"&MID($C7,13,2))) | E7: =IF($D7<>"",IF(MOD(MID($C7,17,1),2)=1,"男","女"),"") | G7: =IFERROR(INDEX('职业数据'!$D:$D,MATCH($F7,'职业数据'!$A:$A,0)),"") | H7: =IFERROR(INDEX('职业数据'!$B:$B,MATCH($F7,'职业数据'!$A:$A,0))&" / "&INDEX('职业数据'!$C:$C,MATCH($F7,'职业数据'!$A:$A,0)),"") | I7: =IFERROR(INDEX('职业数据'!$E:$E,MATCH($F7,'职业数据'!$A:$A,0)),"") | K7: =IF($D7="","",YEAR(TODAY())-VALUE(LEFT($D7,4))-IF(TEXT(TODAY(),"mmdd")<MID($D7,6,2)&MID($D7,9,2),1,0)) | L7: =IF($A7="","",IF($B7="身份证",IF($C7="","待填身份证号",IF(OR(LEN($C7)<>18,NOT(ISNUMBER(LEFT($C7,17)+0)),NOT(OR(ISNUMBER(RIGHT($C7,1)+0),UPPER(RIGHT($C7,1))="X"))),"身份证位数/字符异常",IF(OR(VALUE(MID($C7,11,2))<1,VALUE(MID($C7,11,2))>12,VALUE(MID($C7,13,2))<1,VALUE(MID($C7,13,2))>31),"身份证生日异常",IF(OR($K7<0,$K7>100),"年龄异常","通过")))),IF(OR($D7="",$E7=""),"非身份证请补生日和性别","通过")))
D8: =IF($B8<>"身份证","",IF(OR($C8="",LEN($C8)<>18,NOT(ISNUMBER(LEFT($C8,17)+0)),NOT(OR(ISNUMBER(RIGHT($C8,1)+0),UPPER(RIGHT($C8,1))="X"))),"",MID($C8,7,4)&"-"&MID($C8,11,2)&"-"&MID($C8,13,2))) | E8: =IF($D8<>"",IF(MOD(MID($C8,17,1),2)=1,"男","女"),"") | G8: =IFERROR(INDEX('职业数据'!$D:$D,MATCH($F8,'职业数据'!$A:$A,0)),"") | H8: =IFERROR(INDEX('职业数据'!$B:$B,MATCH($F8,'职业数据'!$A:$A,0))&" / "&INDEX('职业数据'!$C:$C,MATCH($F8,'职业数据'!$A:$A,0)),"") | I8: =IFERROR(INDEX('职业数据'!$E:$E,MATCH($F8,'职业数据'!$A:$A,0)),"") | K8: =IF($D8="","",YEAR(TODAY())-VALUE(LEFT($D8,4))-IF(TEXT(TODAY(),"mmdd")<MID($D8,6,2)&MID($D8,9,2),1,0)) | L8: =IF($A8="","",IF($B8="身份证",IF($C8="","待填身份证号",IF(OR(LEN($C8)<>18,NOT(ISNUMBER(LEFT($C8,17)+0)),NOT(OR(ISNUMBER(RIGHT($C8,1)+0),UPPER(RIGHT($C8,1))="X"))),"身份证位数/字符异常",IF(OR(VALUE(MID($C8,11,2))<1,VALUE(MID($C8,11,2))>12,VALUE(MID($C8,13,2))<1,VALUE(MID($C8,13,2))>31),"身份证生日异常",IF(OR($K8<0,$K8>100),"年龄异常","通过")))),IF(OR($D8="",$E8=""),"非身份证请补生日和性别","通过")))
D9: =IF($B9<>"身份证","",IF(OR($C9="",LEN($C9)<>18,NOT(ISNUMBER(LEFT($C9,17)+0)),NOT(OR(ISNUMBER(RIGHT($C9,1)+0),UPPER(RIGHT($C9,1))="X"))),"",MID($C9,7,4)&"-"&MID($C9,11,2)&"-"&MID($C9,13,2))) | E9: =IF($D9<>"",IF(MOD(MID($C9,17,1),2)=1,"男","女"),"") | G9: =IFERROR(INDEX('职业数据'!$D:$D,MATCH($F9,'职业数据'!$A:$A,0)),"") | H9: =IFERROR(INDEX('职业数据'!$B:$B,MATCH($F9,'职业数据'!$A:$A,0))&" / "&INDEX('职业数据'!$C:$C,MATCH($F9,'职业数据'!$A:$A,0)),"") | I9: =IFERROR(INDEX('职业数据'!$E:$E,MATCH($F9,'职业数据'!$A:$A,0)),"") | K9: =IF($D9="","",YEAR(TODAY())-VALUE(LEFT($D9,4))-IF(TEXT(TODAY(),"mmdd")<MID($D9,6,2)&MID($D9,9,2),1,0)) | L9: =IF($A9="","",IF($B9="身份证",IF($C9="","待填身份证号",IF(OR(LEN($C9)<>18,NOT(ISNUMBER(LEFT($C9,17)+0)),NOT(OR(ISNUMBER(RIGHT($C9,1)+0),UPPER(RIGHT($C9,1))="X"))),"身份证位数/字符异常",IF(OR(VALUE(MID($C9,11,2))<1,VALUE(MID($C9,11,2))>12,VALUE(MID($C9,13,2))<1,VALUE(MID($C9,13,2))>31),"身份证生日异常",IF(OR($K9<0,$K9>100),"年龄异常","通过")))),IF(OR($D9="",$E9=""),"非身份证请补生日和性别","通过")))
D10: =IF($B10<>"身份证","",IF(OR($C10="",LEN($C10)<>18,NOT(ISNUMBER(LEFT($C10,17)+0)),NOT(OR(ISNUMBER(RIGHT($C10,1)+0),UPPER(RIGHT($C10,1))="X"))),"",MID($C10,7,4)&"-"&MID($C10,11,2)&"-"&MID($C10,13,2))) | E10: =IF($D10<>"",IF(MOD(MID($C10,17,1),2)=1,"男","女"),"") | G10: =IFERROR(INDEX('职业数据'!$D:$D,MATCH($F10,'职业数据'!$A:$A,0)),"") | H10: =IFERROR(INDEX('职业数据'!$B:$B,MATCH($F10,'职业数据'!$A:$A,0))&" / "&INDEX('职业数据'!$C:$C,MATCH($F10,'职业数据'!$A:$A,0)),"") | I10: =IFERROR(INDEX('职业数据'!$E:$E,MATCH($F10,'职业数据'!$A:$A,0)),"") | K10: =IF($D10="","",YEAR(TODAY())-VALUE(LEFT($D10,4))-IF(TEXT(TODAY(),"mmdd")<MID($D10,6,2)&MID($D10,9,2),1,0)) | L10: =IF($A10="","",IF($B10="身份证",IF($C10="","待填身份证号",IF(OR(LEN($C10)<>18,NOT(ISNUMBER(LEFT($C10,17)+0)),NOT(OR(ISNUMBER(RIGHT($C10,1)+0),UPPER(RIGHT($C10,1))="X"))),"身份证位数/字符异常",IF(OR(VALUE(MID($C10,11,2))<1,VALUE(MID($C10,11,2))>12,VALUE(MID($C10,13,2))<1,VALUE(MID($C10,13,2))>31),"身份证生日异常",IF(OR($K10<0,$K10>100),"年龄异常","通过")))),IF(OR($D10="",$E10=""),"非身份证请补生日和性别","通过")))
D11: =IF($B11<>"身份证","",IF(OR($C11="",LEN($C11)<>18,NOT(ISNUMBER(LEFT($C11,17)+0)),NOT(OR(ISNUMBER(RIGHT($C11,1)+0),UPPER(RIGHT($C11,1))="X"))),"",MID($C11,7,4)&"-"&MID($C11,11,2)&"-"&MID($C11,13,2))) | E11: =IF($D11<>"",IF(MOD(MID($C11,17,1),2)=1,"男","女"),"") | G11: =IFERROR(INDEX('职业数据'!$D:$D,MATCH($F11,'职业数据'!$A:$A,0)),"") | H11: =IFERROR(INDEX('职业数据'!$B:$B,MATCH($F11,'职业数据'!$A:$A,0))&" / "&INDEX('职业数据'!$C:$C,MATCH($F11,'职业数据'!$A:$A,0)),"") | I11: =IFERROR(INDEX('职业数据'!$E:$E,MATCH($F11,'职业数据'!$A:$A,0)),"") | K11: =IF($D11="","",YEAR(TODAY())-VALUE(LEFT($D11,4))-IF(TEXT(TODAY(),"mmdd")<MID($D11,6,2)&MID($D11,9,2),1,0)) | L11: =IF($A11="","",IF($B11="身份证",IF($C11="","待填身份证号",IF(OR(LEN($C11)<>18,NOT(ISNUMBER(LEFT($C11,17)+0)),NOT(OR(ISNUMBER(RIGHT($C11,1)+0),UPPER(RIGHT($C11,1))="X"))),"身份证位数/字符异常",IF(OR(VALUE(MID($C11,11,2))<1,VALUE(MID($C11,11,2))>12,VALUE(MID($C11,13,2))<1,VALUE(MID($C11,13,2))>31),"身份证生日异常",IF(OR($K11<0,$K11>100),"年龄异常","通过")))),IF(OR($D11="",$E11=""),"非身份证请补生日和性别","通过")))
D12: =IF($B12<>"身份证","",IF(OR($C12="",LEN($C12)<>18,NOT(ISNUMBER(LEFT($C12,17)+0)),NOT(OR(ISNUMBER(RIGHT($C12,1)+0),UPPER(RIGHT($C12,1))="X"))),"",MID($C12,7,4)&"-"&MID($C12,11,2)&"-"&MID($C12,13,2))) | E12: =IF($D12<>"",IF(MOD(MID($C12,17,1),2)=1,"男","女"),"") | G12: =IFERROR(INDEX('职业数据'!$D:$D,MATCH($F12,'职业数据'!$A:$A,0)),"") | H12: =IFERROR(INDEX('职业数据'!$B:$B,MATCH($F12,'职业数据'!$A:$A,0))&" / "&INDEX('职业数据'!$C:$C,MATCH($F12,'职业数据'!$A:$A,0)),"") | I12: =IFERROR(INDEX('职业数据'!$E:$E,MATCH($F12,'职业数据'!$A:$A,0)),"") | K12: =IF($D12="","",YEAR(TODAY())-VALUE(LEFT($D12,4))-IF(TEXT(TODAY(),"mmdd")<MID($D12,6,2)&MID($D12,9,2),1,0)) | L12: =IF($A12="","",IF($B12="身份证",IF($C12="","待填身份证号",IF(OR(LEN($C12)<>18,NOT(ISNUMBER(LEFT($C12,17)+0)),NOT(OR(ISNUMBER(RIGHT($C12,1)+0),UPPER(RIGHT($C12,1))="X"))),"身份证位数/字符异常",IF(OR(VALUE(MID($C12,11,2))<1,VALUE(MID($C12,11,2))>12,VALUE(MID($C12,13,2))<1,VALUE(MID($C12,13,2))>31),"身份证生日异常",IF(OR($K12<0,$K12>100),"年龄异常","通过")))),IF(OR($D12="",$E12=""),"非身份证请补生日和性别","通过")))
D13: =IF($B13<>"身份证","",IF(OR($C13="",LEN($C13)<>18,NOT(ISNUMBER(LEFT($C13,17)+0)),NOT(OR(ISNUMBER(RIGHT($C13,1)+0),UPPER(RIGHT($C13,1))="X"))),"",MID($C13,7,4)&"-"&MID($C13,11,2)&"-"&MID($C13,13,2))) | E13: =IF($D13<>"",IF(MOD(MID($C13,17,1),2)=1,"男","女"),"") | G13: =IFERROR(INDEX('职业数据'!$D:$D,MATCH($F13,'职业数据'!$A:$A,0)),"") | H13: =IFERROR(INDEX('职业数据'!$B:$B,MATCH($F13,'职业数据'!$A:$A,0))&" / "&INDEX('职业数据'!$C:$C,MATCH($F13,'职业数据'!$A:$A,0)),"") | I13: =IFERROR(INDEX('职业数据'!$E:$E,MATCH($F13,'职业数据'!$A:$A,0)),"") | K13: =IF($D13="","",YEAR(TODAY())-VALUE(LEFT($D13,4))-IF(TEXT(TODAY(),"mmdd")<MID($D13,6,2)&MID($D13,9,2),1,0)) | L13: =IF($A13="","",IF($B13="身份证",IF($C13="","待填身份证号",IF(OR(LEN($C13)<>18,NOT(ISNUMBER(LEFT($C13,17)+0)),NOT(OR(ISNUMBER(RIGHT($C13,1)+0),UPPER(RIGHT($C13,1))="X"))),"身份证位数/字符异常",IF(OR(VALUE(MID($C13,11,2))<1,VALUE(MID($C13,11,2))>12,VALUE(MID($C13,13,2))<1,VALUE(MID($C13,13,2))>31),"身份证生日异常",IF(OR($K13<0,$K13>100),"年龄异常","通过")))),IF(OR($D13="",$E13=""),"非身份证请补生日和性别","通过")))
D14: =IF($B14<>"身份证","",IF(OR($C14="",LEN($C14)<>18,NOT(ISNUMBER(LEFT($C14,17)+0)),NOT(OR(ISNUMBER(RIGHT($C14,1)+0),UPPER(RIGHT($C14,1))="X"))),"",MID($C14,7,4)&"-"&MID($C14,11,2)&"-"&MID($C14,13,2))) | E14: =IF($D14<>"",IF(MOD(MID($C14,17,1),2)=1,"男","女"),"") | G14: =IFERROR(INDEX('职业数据'!$D:$D,MATCH($F14,'职业数据'!$A:$A,0)),"") | H14: =IFERROR(INDEX('职业数据'!$B:$B,MATCH($F14,'职业数据'!$A:$A,0))&" / "&INDEX('职业数据'!$C:$C,MATCH($F14,'职业数据'!$A:$A,0)),"") | I14: =IFERROR(INDEX('职业数据'!$E:$E,MATCH($F14,'职业数据'!$A:$A,0)),"") | K14: =IF($D14="","",YEAR(TODAY())-VALUE(LEFT($D14,4))-IF(TEXT(TODAY(),"mmdd")<MID($D14,6,2)&MID($D14,9,2),1,0)) | L14: =IF($A14="","",IF($B14="身份证",IF($C14="","待填身份证号",IF(OR(LEN($C14)<>18,NOT(ISNUMBER(LEFT($C14,17)+0)),NOT(OR(ISNUMBER(RIGHT($C14,1)+0),UPPER(RIGHT($C14,1))="X"))),"身份证位数/字符异常",IF(OR(VALUE(MID($C14,11,2))<1,VALUE(MID($C14,11,2))>12,VALUE(MID($C14,13,2))<1,VALUE(MID($C14,13,2))>31),"身份证生日异常",IF(OR($K14<0,$K14>100),"年龄异常","通过")))),IF(OR($D14="",$E14=""),"非身份证请补生日和性别","通过")))
D15: =IF($B15<>"身份证","",IF(OR($C15="",LEN($C15)<>18,NOT(ISNUMBER(LEFT($C15,17)+0)),NOT(OR(ISNUMBER(RIGHT($C15,1)+0),UPPER(RIGHT($C15,1))="X"))),"",MID($C15,7,4)&"-"&MID($C15,11,2)&"-"&MID($C15,13,2))) | E15: =IF($D15<>"",IF(MOD(MID($C15,17,1),2)=1,"男","女"),"") | G15: =IFERROR(INDEX('职业数据'!$D:$D,MATCH($F15,'职业数据'!$A:$A,0)),"") | H15: =IFERROR(INDEX('职业数据'!$B:$B,MATCH($F15,'职业数据'!$A:$A,0))&" / "&INDEX('职业数据'!$C:$C,MATCH($F15,'职业数据'!$A:$A,0)),"") | I15: =IFERROR(INDEX('职业数据'!$E:$E,MATCH($F15,'职业数据'!$A:$A,0)),"") | K15: =IF($D15="","",YEAR(TODAY())-VALUE(LEFT($D15,4))-IF(TEXT(TODAY(),"mmdd")<MID($D15,6,2)&MID($D15,9,2),1,0)) | L15: =IF($A15="","",IF($B15="身份证",IF($C15="","待填身份证号",IF(OR(LEN($C15)<>18,NOT(ISNUMBER(LEFT($C15,17)+0)),NOT(OR(ISNUMBER(RIGHT($C15,1)+0),UPPER(RIGHT($C15,1))="X"))),"身份证位数/字符异常",IF(OR(VALUE(MID($C15,11,2))<1,VALUE(MID($C15,11,2))>12,VALUE(MID($C15,13,2))<1,VALUE(MID($C15,13,2))>31),"身份证生日异常",IF(OR($K15<0,$K15>100),"年龄异常","通过")))),IF(OR($D15="",$E15=""),"非身份证请补生日和性别","通过")))
D16: =IF($B16<>"身份证","",IF(OR($C16="",LEN($C16)<>18,NOT(ISNUMBER(LEFT($C16,17)+0)),NOT(OR(ISNUMBER(RIGHT($C16,1)+0),UPPER(RIGHT($C16,1))="X"))),"",MID($C16,7,4)&"-"&MID($C16,11,2)&"-"&MID($C16,13,2))) | E16: =IF($D16<>"",IF(MOD(MID($C16,17,1),2)=1,"男","女"),"") | G16: =IFERROR(INDEX('职业数据'!$D:$D,MATCH($F16,'职业数据'!$A:$A,0)),"") | H16: =IFERROR(INDEX('职业数据'!$B:$B,MATCH($F16,'职业数据'!$A:$A,0))&" / "&INDEX('职业数据'!$C:$C,MATCH($F16,'职业数据'!$A:$A,0)),"") | I16: =IFERROR(INDEX('职业数据'!$E:$E,MATCH($F16,'职业数据'!$A:$A,0)),"") | K16: =IF($D16="","",YEAR(TODAY())-VALUE(LEFT($D16,4))-IF(TEXT(TODAY(),"mmdd")<MID($D16,6,2)&MID($D16,9,2),1,0)) | L16: =IF($A16="","",IF($B16="身份证",IF($C16="","待填身份证号",IF(OR(LEN($C16)<>18,NOT(ISNUMBER(LEFT($C16,17)+0)),NOT(OR(ISNUMBER(RIGHT($C16,1)+0),UPPER(RIGHT($C16,1))="X"))),"身份证位数/字符异常",IF(OR(VALUE(MID($C16,11,2))<1,VALUE(MID($C16,11,2))>12,VALUE(MID($C16,13,2))<1,VALUE(MID($C16,13,2))>31),"身份证生日异常",IF(OR($K16<0,$K16>100),"年龄异常","通过")))),IF(OR($D16="",$E16=""),"非身份证请补生日和性别","通过")))
... D204: =IF($B204<>"身份证","",IF(OR($C204="",LEN($C204)<>18,NOT(ISNUMBER(LEFT($C204,17)+0)),NOT(OR(ISNUMBER(RIGHT($C204,1)+0),UPPER(RIGHT($C204,1))="X"))),"",MID($C204,7,4)&"-"&MID($C204,11,2)&"-"&MID($C204,13,2))) | E204: =IF($D204<>"",IF(MOD(MID($C204,17,1),2)=1,"男","女"),"") | G204: =IFERROR(INDEX('职业数据'!$D:$D,MATCH($F204,'职业数据'!$A:$A,0)),"") | H204: =IFERROR(INDEX('职业数据'!$B:$B,MATCH($F204,'职业数据'!$A:$A,0))&" / "&INDEX('职业数据'!$C:$C,MATCH($F204,'职业数据'!$A:$A,0)),"") | I204: =IFERROR(INDEX('职业数据'!$E:$E,MATCH($F204,'职业数据'!$A:$A,0)),"") | K204: =IF($D204="","",YEAR(TODAY())-VALUE(LEFT($D204,4))-IF(TEXT(TODAY(),"mmdd")<MID($D204,6,2)&MID($D204,9,2),1,0)) | L204: =IF($A204="","",IF($B204="身份证",IF($C204="","待填身份证号",IF(OR(LEN($C204)<>18,NOT(ISNUMBER(LEFT($C204,17)+0)),NOT(OR(ISNUMBER(RIGHT($C204,1)+0),UPPER(RIGHT($C204,1))="X"))),"身份证位数/字符异常",IF(OR(VALUE(MID($C204,11,2))<1,VALUE(MID($C204,11,2))>12,VALUE(MID($C204,13,2))<1,VALUE(MID($C204,13,2))>31),"身份证生日异常",IF(OR($K204<0,$K204>100),"年龄异常","通过")))),IF(OR($D204="",$E204=""),"非身份证请补生日和性别","通过")))

Sheet 职业查询
A1: 职业查询
A2: 使用方式：直接点击第 4 行筛选按钮，在“具体职业”“行业”或“职业细项”列里输入关键词搜索，找到后复制职业代码到“人员清单模板”工作表 F 列。
A3: 说明：Excel 原生支持“包含”搜索，适合做模糊查找；如果出现同名工种，请以行业和职业细项区分。
A4: 职业代码 | B4: 行业 | C4: 职业细项 | D4: 具体职业 | E4: 职业类别 | F4: 备注
A5: ZY0001 | B5: 一般职业 | C5: 机关内勤(不从事凶险工作) | D5: 机关内勤 | E5: 1类
A6: ZY0002 | B6: 一般职业 | C6: 机关外勤 | D6: 机关外勤 | E6: 2类
A7: ZY0003 | B7: 一般职业 | C7: 工厂管理人员 | D7: 工厂负责人（不亲自作业） | E7: 2类
A8: ZY0004 | B8: 一般职业 | C8: 工厂管理人员 | D8: 工厂厂长（不亲自作业） | E8: 2类
A9: ZY0005 | B9: 一般职业 | C9: 保安 | D9: 办公楼 | E9: 2类
A10: ZY0006 | B10: 一般职业 | C10: 保安 | D10: 物业 | E10: 2类
A11: ZY0007 | B11: 一般职业 | C11: 保安 | D11: 工厂 | E11: 2类
A12: ZY0008 | B12: 一般职业 | C12: 保安 | D12: 银行保安人员 | E12: 2类
A13: ZY0009 | B13: 一般职业 | C13: 采购人员 | D13: 采购人员 | E13: 2类
A14: ZY0010 | B14: 一般职业 | C14: 厨师 | D14: 厨师 | E14: 3类
A15: ZY0011 | B15: 一般职业 | C15: 室内清洁人员 | D15: 室内清洁人员 | E15: 3类 | F15: 调整
A16: ZY0012 | B16: 农牧业 | C16: 农场经营者 | D16: 农场经营者（不参与实际作业） | E16: 1类
A17: ZY0013 | B17: 农牧业 | C17: 农场经营者 | D17: 农具商（不参与实际作业） | E17: 1类
A18: ZY0014 | B18: 农牧业 | C18: 农场经营者 | D18: 牧场经营者（不参与实际作业） | E18: 1类
A19: ZY0015 | B19: 农牧业 | C19: 种植、饲养、畜牧人员 | D19: 农夫 | E19: 3类
A20: ZY0016 | B20: 农牧业 | C20: 种植、饲养、畜牧人员 | D20: 植物栽培 | E20: 3类
A21: ZY0017 | B21: 农牧业 | C21: 种植、饲养、畜牧人员 | D21: 家禽家畜饲养 | E21: 3类
A22: ZY0018 | B22: 农牧业 | C22: 种植、饲养、畜牧人员 | D22: 畜牧人员 | E22: 3类
A23: ZY0019 | B23: 农牧业 | C23: 种植、饲养、畜牧人员 | D23: 长短工 | E23: 4类 | F23: 调整
A24: ZY0020 | B24: 农牧业 | C24: 种植、饲养、畜牧人员 | D24: 果农 | E24: 3类
A25: ZY0021 | B25: 农牧业 | C25: 种植、饲养、畜牧人员 | D25: 昆虫(蜜蜂)饲养人员 | E25: 3类
A26: ZY0022 | B26: 农牧业 | C26: 种植、饲养、畜牧人员 | D26: 畜牧工作人员 | E26: 3类
A27: ZY0023 | B27: 农牧业 | C27: 糖厂技工 | D27: 糖厂技工 | E27: 4类
A28: ZY0024 | B28: 农牧业 | C28: 农用机器、车辆驾驶及修理人员 | D28: 联合收割机驾驶员 | E28: 4类
A29: ZY0025 | B29: 农牧业 | C29: 农用机器、车辆驾驶及修理人员 | D29: 农用机械操作及修理人员 | E29: 4类
A30: ZY0026 | B30: 农牧业 | C30: 农用机器、车辆驾驶及修理人员 | D30: 农用运输车驾驶员 | E30: 4类
A31: ZY0027 | B31: 农牧业 | C31: 农用机器、车辆驾驶及修理人员 | D31: 动物养殖人员 | E31: 4类
A32: ZY0028 | B32: 农牧业 | C32: 驯养人员 | D32: 驯养人员 | E32: 4类
A33: ZY0029 | B33: 农牧业 | C33: 沼气工程施工人员 | D33: 沼气工程施工人员 | E33: 5类
A34: ZY0030 | B34: 农牧业 | C34: 农业技术人员 | D34: 苗圃栽培人员 | E34: 2类
A35: ZY0031 | B35: 农牧业 | C35: 农业技术人员 | D35: 花圃栽培人员 | E35: 2类
... A266: ZY0262 | B266: 航空运输业 | C266: 行李货运搬运工人 | D266: 理货员 | E266: 4类
A267: ZY0263 | B267: 航空运输业 | C267: 站内清洁工 | D267: 站内清洁工人(航空大厦内) | E267: 3类 | F267: 调整
A268: ZY0264 | B268: 航空运输业 | C268: 站外清洁工 | D268: 清洁工(站外、航空大厦外) | E268: 4类
A269: ZY0265 | B269: 航空运输业 | C269: 机场修护人员 | D269: 飞机修护人员 | E269: 4类
A270: ZY0266 | B270: 航空运输业 | C270: 机场修护人员 | D270: 跑道维护工 | E270: 4类
A271: ZY0267 | B271: 航空运输业 | C271: 机场修护人员 | D271: 飞机洗刷人员 | E271: 4类
A272: ZY0268 | B272: 航空运输业 | C272: 机场修护人员 | D272: 机械员 | E272: 4类
A273: ZY0269 | B273: 航空运输业 | C273: 机场修护人员 | D273: 加添燃料人员 | E273: 4类
A274: ZY0270 | B274: 航空运输业 | C274: 一般外勤人员 | D274: 缉私人员 | E274: 2类
A275: ZY0271 | B275: 航空运输业 | C275: 一般外勤人员 | D275: 外务员 | E275: 2类
A276: ZY0272 | B276: 航空运输业 | C276: 一般外勤人员 | D276: 报关人员 | E276: 2类
A277: ZY0273 | B277: 航空运输业 | C277: 机场内交通车司机 | D277: 机场内交通车司机 | E277: 3类
A278: ZY0274 | B278: 航空运输业 | C278: 清洁工(站外、航空大厦外) | D278: 清洁工(站外、航空大厦外) | E278: 4类
A279: ZY0275 | B279: 航空运输业 | C279: 机组人员 | D279: 民航机飞行人员 | E279: 6类/需核保
... A526: ZY0522 | B526: 医疗卫生保健 | C526: 勤杂工人、护理员 | D526: 医院勤杂工 | E526: 2类
A527: ZY0523 | B527: 医疗卫生保健 | C527: 勤杂工人、护理员 | D527: 清洁工 | E527: 3类 | F527: 调整
A528: ZY0524 | B528: 医疗卫生保健 | C528: 精神科医师、看护、护士 | D528: 精神科医师 | E528: 3类
A529: ZY0525 | B529: 医疗卫生保健 | C529: 精神科医师、看护、护士 | D529: 看护 | E529: 3类
A530: ZY0526 | B530: 医疗卫生保健 | C530: 精神科医师、看护、护士 | D530: 护士 | E530: 3类
A531: ZY0527 | B531: 医疗卫生保健 | C531: 兽医 | D531: 兽医 | E531: 3类
A532: ZY0528 | B532: 娱乐业 | C532: 管理人员、负责人 | D532: 企业单位负责人 | E532: 1类
A533: ZY0529 | B533: 娱乐业 | C533: 管理人员、负责人 | D533: 管理人员 | E533: 1类
A534: ZY0530 | B534: 娱乐业 | C534: 内勤人员 | D534: 制片人 | E534: 1类
A535: ZY0531 | B535: 娱乐业 | C535: 内勤人员 | D535: 影片商 | E535: 1类
A536: ZY0532 | B536: 娱乐业 | C536: 内勤人员 | D536: 编剧 | E536: 1类
A537: ZY0533 | B537: 娱乐业 | C537: 内勤人员 | D537: 配音演员 | E537: 1类
A538: ZY0534 | B538: 娱乐业 | C538: 内勤人员 | D538: 播音员 | E538: 1类
A539: ZY0535 | B539: 娱乐业 | C539: 内勤人员 | D539: 节目主持人 | E539: 1类
... A630: ZY0626 | B630: 电力水力燃气事业 | C630: 其它设备维护维修工人 | D630: 变电设备检修工 | E630: 5类
A631: ZY0627 | B631: 电力水力燃气事业 | C631: 其它设备维护维修工人 | D631: 维修电工 | E631: 5类 | F631: 含高空
A632: ZY0628 | B632: 电力水力燃气事业 | C632: 其它设备维护维修工人 | D632: 电力设施架设人员 | E632: 5类
A633: ZY0629 | B633: 电力水力燃气事业 | C633: 其它设备维护维修工人 | D633: 水泵或提水站的维修人员 | E633: 5类
A634: ZY0630 | B634: 电力水力燃气事业 | C634: 其它设备维护维修工人 | D634: 河道清淤的工人 | E634: 5类
A635: ZY0631 | B635: 电力水力燃气事业 | C635: 水库管理人员 | D635: 水坝 | E635: 3类
A636: ZY0632 | B636: 电力水力燃气事业 | C636: 水库管理人员 | D636: 水库管理人员 | E636: 3类
A637: ZY0633 | B637: 电力水力燃气事业 | C637: 水库管理人员 | D637: 水泵或提水站的管理人员 | E637: 3类
A638: ZY0634 | B638: 电力水力燃气事业 | C638: 液化燃气分装工 | D638: 液化燃气分装工 | E638: 2类
A639: ZY0635 | B639: 电力水力燃气事业 | C639: 液化气送货员 | D639: 送货员 | E639: 4类
A640: ZY0636 | B640: 电力水力燃气事业 | C640: 液化气站管理人员 | D640: 负责人及工作人员 | E640: 5类
A641: ZY0637 | B641: 零售批发业 | C641: 一类批发、零售商 | D641: 厨具商 | E641: 1类
A642: ZY0638 | B642: 零售批发业 | C642: 一类批发、零售商 | D642: 陶瓷器商 | E642: 1类
A643: ZY0639 | B643: 零售批发业 | C643: 一类批发、零售商 | D643: 古董商 | E643: 1类
... A676: ZY0672 | B676: 零售批发业 | C676: 仓储人员（不涉及搬运） | D676: 仓储人员（不涉及搬运） | E676: 3类
A677: ZY0673 | B677: 零售批发业 | C677: 安装工人 | D677: 安装工人 | E677: 5类 | F677: 含高空
A678: ZY0674 | B678: 零售批发业 | C678: 搬运人员 | D678: 搬运人员 | E678: 4类
A679: ZY0675 | B679: 金融、服务业 | C679: 内勤人员 | D679: 一般内勤人员 | E679: 1类
A680: ZY0676 | B680: 金融、服务业 | C680: 内勤人员 | D680: 律师 | E680: 1类
A681: ZY0677 | B681: 金融、服务业 | C681: 内勤人员 | D681: 会计师 | E681: 1类
A682: ZY0678 | B682: 金融、服务业 | C682: 内勤人员 | D682: 代书（内勤） | E682: 1类
A683: ZY0679 | B683: 金融、服务业 | C683: 内勤人员 | D683: 经纪人（内勤） | E683: 1类
A684: ZY0680 | B684: 金融、服务业 | C684: 内勤人员 | D684: 鉴定评估师 | E684: 1类
A685: ZY0681 | B685: 金融、服务业 | C685: 外勤人员 | D685: 金融外务员 | E685: 2类
A686: ZY0682 | B686: 金融、服务业 | C686: 外勤人员 | D686: 保险收费员 | E686: 2类
A687: ZY0683 | B687: 金融、服务业 | C687: 外勤人员 | D687: 保险调查员 | E687: 2类
A688: ZY0684 | B688: 金融、服务业 | C688: 外勤人员 | D688: 征信人员 | E688: 2类
A689: ZY0685 | B689: 金融、服务业 | C689: 押运人员 | D689: 现金运送车司机 | E689: 3类
... A702: ZY0698 | B702: 金融、服务业 | C702: 服务人员 | D702: 洗车工人 | E702: 2类
A703: ZY0699 | B703: 金融、服务业 | C703: 环卫工人 | D703: 道路清洁工 | E703: 4类 | F703: 环卫工人
A704: ZY0700 | B704: 金融、服务业 | C704: 环卫工人 | D704: 垃圾车司机及随车工人 | E704: 4类
A705: ZY0701 | B705: 金融、服务业 | C705: 环卫工人 | D705: 垃圾分类工人 | E705: 4类
A706: ZY0702 | B706: 金融、服务业 | C706: 家政小时工 | D706: 家政服务员（小时工） | E706: 3类
A707: ZY0703 | B707: 金融、服务业 | C707: 保姆 | D707: 保姆（全日制） | E707: 2类
A708: ZY0704 | B708: 金融、服务业 | C708: 邮递员、快递员 | D708: 邮递员 | E708: 4类 | F708: 调整
A709: ZY0705 | B709: 金融、服务业 | C709: 邮递员、快递员 | D709: 快递员 | E709: 4类 | F709: 调整
A710: ZY0706 | B710: 金融、服务业 | C710: 物业管理人员 | D710: 物业管理人员 | E710: 2类
...

Sheet 职业数据
A1: 职业代码 | B1: 行业 | C1: 职业细项 | D1: 具体职业 | E1: 职业类别 | F1: 备注
A2: ZY0001 | B2: 一般职业 | C2: 机关内勤(不从事凶险工作) | D2: 机关内勤 | E2: 1类
A3: ZY0002 | B3: 一般职业 | C3: 机关外勤 | D3: 机关外勤 | E3: 2类
A4: ZY0003 | B4: 一般职业 | C4: 工厂管理人员 | D4: 工厂负责人（不亲自作业） | E4: 2类
A5: ZY0004 | B5: 一般职业 | C5: 工厂管理人员 | D5: 工厂厂长（不亲自作业） | E5: 2类
A6: ZY0005 | B6: 一般职业 | C6: 保安 | D6: 办公楼 | E6: 2类
A7: ZY0006 | B7: 一般职业 | C7: 保安 | D7: 物业 | E7: 2类
A8: ZY0007 | B8: 一般职业 | C8: 保安 | D8: 工厂 | E8: 2类
A9: ZY0008 | B9: 一般职业 | C9: 保安 | D9: 银行保安人员 | E9: 2类
A10: ZY0009 | B10: 一般职业 | C10: 采购人员 | D10: 采购人员 | E10: 2类
A11: ZY0010 | B11: 一般职业 | C11: 厨师 | D11: 厨师 | E11: 3类
A12: ZY0011 | B12: 一般职业 | C12: 室内清洁人员 | D12: 室内清洁人员 | E12: 3类 | F12: 调整
A13: ZY0012 | B13: 农牧业 | C13: 农场经营者 | D13: 农场经营者（不参与实际作业） | E13: 1类
A14: ZY0013 | B14: 农牧业 | C14: 农场经营者 | D14: 农具商（不参与实际作业） | E14: 1类
A15: ZY0014 | B15: 农牧业 | C15: 农场经营者 | D15: 牧场经营者（不参与实际作业） | E15: 1类
A16: ZY0015 | B16: 农牧业 | C16: 种植、饲养、畜牧人员 | D16: 农夫 | E16: 3类
A17: ZY0016 | B17: 农牧业 | C17: 种植、饲养、畜牧人员 | D17: 植物栽培 | E17: 3类
A18: ZY0017 | B18: 农牧业 | C18: 种植、饲养、畜牧人员 | D18: 家禽家畜饲养 | E18: 3类
A19: ZY0018 | B19: 农牧业 | C19: 种植、饲养、畜牧人员 | D19: 畜牧人员 | E19: 3类
A20: ZY0019 | B20: 农牧业 | C20: 种植、饲养、畜牧人员 | D20: 长短工 | E20: 4类 | F20: 调整
A21: ZY0020 | B21: 农牧业 | C21: 种植、饲养、畜牧人员 | D21: 果农 | E21: 3类
A22: ZY0021 | B22: 农牧业 | C22: 种植、饲养、畜牧人员 | D22: 昆虫(蜜蜂)饲养人员 | E22: 3类
A23: ZY0022 | B23: 农牧业 | C23: 种植、饲养、畜牧人员 | D23: 畜牧工作人员 | E23: 3类
A24: ZY0023 | B24: 农牧业 | C24: 糖厂技工 | D24: 糖厂技工 | E24: 4类
A25: ZY0024 | B25: 农牧业 | C25: 农用机器、车辆驾驶及修理人员 | D25: 联合收割机驾驶员 | E25: 4类
A26: ZY0025 | B26: 农牧业 | C26: 农用机器、车辆驾驶及修理人员 | D26: 农用机械操作及修理人员 | E26: 4类
A27: ZY0026 | B27: 农牧业 | C27: 农用机器、车辆驾驶及修理人员 | D27: 农用运输车驾驶员 | E27: 4类
A28: ZY0027 | B28: 农牧业 | C28: 农用机器、车辆驾驶及修理人员 | D28: 动物养殖人员 | E28: 4类
A29: ZY0028 | B29: 农牧业 | C29: 驯养人员 | D29: 驯养人员 | E29: 4类
A30: ZY0029 | B30: 农牧业 | C30: 沼气工程施工人员 | D30: 沼气工程施工人员 | E30: 5类
A31: ZY0030 | B31: 农牧业 | C31: 农业技术人员 | D31: 苗圃栽培人员 | E31: 2类
A32: ZY0031 | B32: 农牧业 | C32: 农业技术人员 | D32: 花圃栽培人员 | E32: 2类
... A263: ZY0262 | B263: 航空运输业 | C263: 行李货运搬运工人 | D263: 理货员 | E263: 4类
A264: ZY0263 | B264: 航空运输业 | C264: 站内清洁工 | D264: 站内清洁工人(航空大厦内) | E264: 3类 | F264: 调整
A265: ZY0264 | B265: 航空运输业 | C265: 站外清洁工 | D265: 清洁工(站外、航空大厦外) | E265: 4类
A266: ZY0265 | B266: 航空运输业 | C266: 机场修护人员 | D266: 飞机修护人员 | E266: 4类
A267: ZY0266 | B267: 航空运输业 | C267: 机场修护人员 | D267: 跑道维护工 | E267: 4类
A268: ZY0267 | B268: 航空运输业 | C268: 机场修护人员 | D268: 飞机洗刷人员 | E268: 4类
A269: ZY0268 | B269: 航空运输业 | C269: 机场修护人员 | D269: 机械员 | E269: 4类
A270: ZY0269 | B270: 航空运输业 | C270: 机场修护人员 | D270: 加添燃料人员 | E270: 4类
A271: ZY0270 | B271: 航空运输业 | C271: 一般外勤人员 | D271: 缉私人员 | E271: 2类
A272: ZY0271 | B272: 航空运输业 | C272: 一般外勤人员 | D272: 外务员 | E272: 2类
A273: ZY0272 | B273: 航空运输业 | C273: 一般外勤人员 | D273: 报关人员 | E273: 2类
A274: ZY0273 | B274: 航空运输业 | C274: 机场内交通车司机 | D274: 机场内交通车司机 | E274: 3类
A275: ZY0274 | B275: 航空运输业 | C275: 清洁工(站外、航空大厦外) | D275: 清洁工(站外、航空大厦外) | E275: 4类
A276: ZY0275 | B276: 航空运输业 | C276: 机组人员 | D276: 民航机飞行人员 | E276: 6类/需核保
... A523: ZY0522 | B523: 医疗卫生保健 | C523: 勤杂工人、护理员 | D523: 医院勤杂工 | E523: 2类
A524: ZY0523 | B524: 医疗卫生保健 | C524: 勤杂工人、护理员 | D524: 清洁工 | E524: 3类 | F524: 调整
A525: ZY0524 | B525: 医疗卫生保健 | C525: 精神科医师、看护、护士 | D525: 精神科医师 | E525: 3类
A526: ZY0525 | B526: 医疗卫生保健 | C526: 精神科医师、看护、护士 | D526: 看护 | E526: 3类
A527: ZY0526 | B527: 医疗卫生保健 | C527: 精神科医师、看护、护士 | D527: 护士 | E527: 3类
A528: ZY0527 | B528: 医疗卫生保健 | C528: 兽医 | D528: 兽医 | E528: 3类
A529: ZY0528 | B529: 娱乐业 | C529: 管理人员、负责人 | D529: 企业单位负责人 | E529: 1类
A530: ZY0529 | B530: 娱乐业 | C530: 管理人员、负责人 | D530: 管理人员 | E530: 1类
A531: ZY0530 | B531: 娱乐业 | C531: 内勤人员 | D531: 制片人 | E531: 1类
A532: ZY0531 | B532: 娱乐业 | C532: 内勤人员 | D532: 影片商 | E532: 1类
A533: ZY0532 | B533: 娱乐业 | C533: 内勤人员 | D533: 编剧 | E533: 1类
A534: ZY0533 | B534: 娱乐业 | C534: 内勤人员 | D534: 配音演员 | E534: 1类
A535: ZY0534 | B535: 娱乐业 | C535: 内勤人员 | D535: 播音员 | E535: 1类
A536: ZY0535 | B536: 娱乐业 | C536: 内勤人员 | D536: 节目主持人 | E536: 1类
... A627: ZY0626 | B627: 电力水力燃气事业 | C627: 其它设备维护维修工人 | D627: 变电设备检修工 | E627: 5类
A628: ZY0627 | B628: 电力水力燃气事业 | C628: 其它设备维护维修工人 | D628: 维修电工 | E628: 5类 | F628: 含高空
A629: ZY0628 | B629: 电力水力燃气事业 | C629: 其它设备维护维修工人 | D629: 电力设施架设人员 | E629: 5类
A630: ZY0629 | B630: 电力水力燃气事业 | C630: 其它设备维护维修工人 | D630: 水泵或提水站的维修人员 | E630: 5类
A631: ZY0630 | B631: 电力水力燃气事业 | C631: 其它设备维护维修工人 | D631: 河道清淤的工人 | E631: 5类
A632: ZY0631 | B632: 电力水力燃气事业 | C632: 水库管理人员 | D632: 水坝 | E632: 3类
A633: ZY0632 | B633: 电力水力燃气事业 | C633: 水库管理人员 | D633: 水库管理人员 | E633: 3类
A634: ZY0633 | B634: 电力水力燃气事业 | C634: 水库管理人员 | D634: 水泵或提水站的管理人员 | E634: 3类
A635: ZY0634 | B635: 电力水力燃气事业 | C635: 液化燃气分装工 | D635: 液化燃气分装工 | E635: 2类
A636: ZY0635 | B636: 电力水力燃气事业 | C636: 液化气送货员 | D636: 送货员 | E636: 4类
A637: ZY0636 | B637: 电力水力燃气事业 | C637: 液化气站管理人员 | D637: 负责人及工作人员 | E637: 5类
A638: ZY0637 | B638: 零售批发业 | C638: 一类批发、零售商 | D638: 厨具商 | E638: 1类
A639: ZY0638 | B639: 零售批发业 | C639: 一类批发、零售商 | D639: 陶瓷器商 | E639: 1类
A640: ZY0639 | B640: 零售批发业 | C640: 一类批发、零售商 | D640: 古董商 | E640: 1类
... A673: ZY0672 | B673: 零售批发业 | C673: 仓储人员（不涉及搬运） | D673: 仓储人员（不涉及搬运） | E673: 3类
A674: ZY0673 | B674: 零售批发业 | C674: 安装工人 | D674: 安装工人 | E674: 5类 | F674: 含高空
A675: ZY0674 | B675: 零售批发业 | C675: 搬运人员 | D675: 搬运人员 | E675: 4类
A676: ZY0675 | B676: 金融、服务业 | C676: 内勤人员 | D676: 一般内勤人员 | E676: 1类
A677: ZY0676 | B677: 金融、服务业 | C677: 内勤人员 | D677: 律师 | E677: 1类
A678: ZY0677 | B678: 金融、服务业 | C678: 内勤人员 | D678: 会计师 | E678: 1类
A679: ZY0678 | B679: 金融、服务业 | C679: 内勤人员 | D679: 代书（内勤） | E679: 1类
A680: ZY0679 | B680: 金融、服务业 | C680: 内勤人员 | D680: 经纪人（内勤） | E680: 1类
A681: ZY0680 | B681: 金融、服务业 | C681: 内勤人员 | D681: 鉴定评估师 | E681: 1类
A682: ZY0681 | B682: 金融、服务业 | C682: 外勤人员 | D682: 金融外务员 | E682: 2类
A683: ZY0682 | B683: 金融、服务业 | C683: 外勤人员 | D683: 保险收费员 | E683: 2类
A684: ZY0683 | B684: 金融、服务业 | C684: 外勤人员 | D684: 保险调查员 | E684: 2类
A685: ZY0684 | B685: 金融、服务业 | C685: 外勤人员 | D685: 征信人员 | E685: 2类
A686: ZY0685 | B686: 金融、服务业 | C686: 押运人员 | D686: 现金运送车司机 | E686: 3类
... A699: ZY0698 | B699: 金融、服务业 | C699: 服务人员 | D699: 洗车工人 | E699: 2类
A700: ZY0699 | B700: 金融、服务业 | C700: 环卫工人 | D700: 道路清洁工 | E700: 4类 | F700: 环卫工人
A701: ZY0700 | B701: 金融、服务业 | C701: 环卫工人 | D701: 垃圾车司机及随车工人 | E701: 4类
A702: ZY0701 | B702: 金融、服务业 | C702: 环卫工人 | D702: 垃圾分类工人 | E702: 4类
A703: ZY0702 | B703: 金融、服务业 | C703: 家政小时工 | D703: 家政服务员（小时工） | E703: 3类
A704: ZY0703 | B704: 金融、服务业 | C704: 保姆 | D704: 保姆（全日制） | E704: 2类
A705: ZY0704 | B705: 金融、服务业 | C705: 邮递员、快递员 | D705: 邮递员 | E705: 4类 | F705: 调整
A706: ZY0705 | B706: 金融、服务业 | C706: 邮递员、快递员 | D706: 快递员 | E706: 4类 | F706: 调整
A707: ZY0706 | B707: 金融、服务业 | C707: 物业管理人员 | D707: 物业管理人员 | E707: 2类
A708: ZY0707 | B708: 金融、服务业 | C708: 物业维修人员（含物业电工） | D708: 物业维修人员（含物业电工） | E708: 4类
A709: ZY0708 | B709: 公检法机关 | C709: 一般行政人员 | D709: 人民法院负责人 | E709: 1类
A710: ZY0709 | B710: 公检法机关 | C710: 一般行政人员 | D710: 人民检察院负责人 | E710: 1类
...
