Workbook

Sheet 人员清单模板
A1: 人员清单模板
A2: 填写说明：证件类型为身份证时，生日和性别会根据证件号自动读取；职业请先到“职业查询”工作表筛选搜索，确认后把职业代码填入 F 列，系统会自动回填具体职业、行业/职业细项和职业类别。身份证号会自动检查位数、字符、校验位和出生日期，并在“校验结果”列提示。
A3: 注意：同名工种可能属于不同行业，请务必结合“行业 / 职业细项”确认，不要只看“具体职业”。
A4: 被保险人姓名 | B4: 证件类型 | C4: 证件号 | D4: 生日（身份证自动读取） | E4: 性别（身份证自动读取） | F4: 职业代码 | G4: 具体职业 | H4: 行业 / 职业细项 | I4: 职业类别 | J4: 备注 | K4: 年龄（自动） | L4: 校验结果
D5: =IF($B5<>"身份证","",IF(OR($C5="",LEN($C5)<>18,NOT(ISNUMBER(LEFT($C5,17)+0)),NOT(OR(ISNUMBER(RIGHT($C5,1)+0),UPPER(RIGHT($C5,1))="X"))),"",MID($C5,7,4)&"-"&MID($C5,11,2)&"-"&MID($C5,13,2))) | E5: =IF($D5<>"",IF(MOD(MID($C5,17,1),2)=1,"男","女"),"") | G5: =IFERROR(INDEX('职业数据'!$D:$D,MATCH($F5,'职业数据'!$A:$A,0)),"") | H5: =IFERROR(INDEX('职业数据'!$B:$B,MATCH($F5,'职业数据'!$A:$A,0))&" / "&INDEX('职业数据'!$C:$C,MATCH($F5,'职业数据'!$A:$A,0)),"") | I5: =IFERROR(INDEX('职业数据'!$E:$E,MATCH($F5,'职业数据'!$A:$A,0)),"") | K5: =IF($D5="","",YEAR(TODAY())-VALUE(LEFT($D5,4))-IF(TEXT(TODAY(),"mmdd")<MID($D5,6,2)&MID($D5,9,2),1,0)) | L5: =IF($A5="","",IF($B5="身份证",IF($C5="","待填身份证号",IF(OR(LEN($C5)<>18,NOT(ISNUMBER(LEFT($C5,17)+0)),NOT(OR(ISNUMBER(RIGHT($C5,1)+0),UPPER(RIGHT($C5,1))="X"))),"身份证位数/字符异常",IF(OR(VALUE(MID($C5,11,2))<1,VALUE(MID($C5,11,2))>12,VALUE(MID($C5,13,2))<1,VALUE(MID($C5,13,2))>31),"身份证生日异常",IF(OR($K5<0,$K5>100),"年龄异常","通过")))),IF(OR($D5="",$E5=""),"非身份证请补生日和性别","通过")))
D6: =IF($B6<>"身份证","",IF(OR($C6="",LEN($C6)<>18,NOT(ISNUMBER(LEFT($C6,17)+0)),NOT(OR(ISNUMBER(RIGHT($C6,1)+0),UPPER(RIGHT($C6,1))="X"))),"",MID($C6,7,4)&"-"&MID($C6,11,2)&"-"&MID($C6,13,2))) | E6: =IF($D6<>"",IF(MOD(MID($C6,17,1),2)=1,"男","女"),"") | G6: =IFERROR(INDEX('职业数据'!$D:$D,MATCH($F6,'职业数据'!$A:$A,0)),"") | H6: =IFERROR(INDEX('职业数据'!$B:$B,MATCH($F6,'职业数据'!$A:$A,0))&" / "&INDEX('职业数据'!$C:$C,MATCH($F6,'职业数据'!$A:$A,0)),"") | I6: =IFERROR(INDEX('职业数据'!$E:$E,MATCH($F6,'职业数据'!$A:$A,0)),"") | K6: =IF($D6="","",YEAR(TODAY())-VALUE(LEFT($D6,4))-IF(TEXT(TODAY(),"mmdd")<MID($D6,6,2)&MID($D6,9,2),1,0)) | L6: =IF($A6="","",IF($B6="身份证",IF($C6="","待填身份证号",IF(OR(LEN($C6)<>18,NOT(ISNUMBER(LEFT($C6,17)+0)),NOT(OR(ISNUMBER(RIGHT($C6,1)+0),UPPER(RIGHT($C6,1))="X"))),"身份证位数/字符异常",IF(OR(VALUE(MID($C6,11,2))<1,VALUE(MID($C6,11,2))>12,VALUE(MID($C6,13,2))<1,VALUE(MID($C6,13,2))>31),"身份证生日异常",IF(OR($K6<0,$K6>100),"年龄异常","通过")))),IF(OR($D6="",$E6=""),"非身份证请补生日和性别","通过")))
D7: =IF($B7<>"身份证","",IF(OR($C7="",LEN($C7)<>18,NOT(ISNUMBER(LEFT($C7,17)+0)),NOT(OR(ISNUMBER(RIGHT($C7,1)+0),UPPER(RIGHT($C7,1))="X"))),"",MID($C7,7,4)&"-"&MID($C7,11,2)&"-"&MID($C7,13,2))) | E7: =IF($D7<>"",IF(MOD(MID($C7,17,1),2)=1,"男","女"),"") | G7: =IFERROR(INDEX('职业数据'!$D:$D,MATCH($F7,'职业数据'!$A:$A,0)),"") | H7: =IFERROR(INDEX('职业数据'!$B:$B,MATCH($F7,'职业数据'!$A:$A,0))&" / "&INDEX('职业数据'!$C:$C,MATCH($F7,'职业数据'!$A:$A,0)),"") | I7: =IFERROR(INDEX('职业数据'!$E:$E,MATCH($F7,'职业数据'!$A:$A,0)),"") | K7: =IF($D7="","",YEAR(TODAY())-VALUE(LEFT($D7,4))-IF(TEXT(TODAY(),"mmdd")<MID($D7,6,2)&MID($D7,9,2),1,0)) | L7: =IF($A7="","",IF($B7="身份证",IF($C7="","待填身份证号",IF(OR(LEN($C7)<>18,NOT(ISNUMBER(LEFT($C7,17)+0)),NOT(OR(ISNUMBER(RIGHT($C7,1)+0),UPPER(RIGHT($C7,1))="X"))),"身份证位数/字符异常",IF(OR(VALUE(MID($C7,11,2))<1,VALUE(MID($C7,11,2))>12,VALUE(MID($C7,13,2))<1,VALUE(MID($C7,13,2))>31),"身份证生日异常",IF(OR($K7<0,$K7>100),"年龄异常","通过")))),IF(OR($D7="",$E7=""),"非身份证请补生日和性别","通过")))
D8: =IF($B8<>"身份证","",IF(OR($C8="",LEN($C8)<>18,NOT(ISNUMBER(LEFT($C8,17)+0)),NOT(OR(ISNUMBER(RIGHT($C8,1)+0),UPPER(RIGHT($C8,1))="X"))),"",MID($C8,7,4)&"-"&MID($C8,11,2)&"-"&MID($C8,13,2))) | E8: =IF($D8<>"",IF(MOD(MID($C8,17,1),2)=1,"男","女"),"") | G8: =IFERROR(INDEX('职业数据'!$D:$D,MATCH($F8,'职业数据'!$A:$A,0)),"") | H8: =IFERROR(INDEX('职业数据'!$B:$B,MATCH($F8,'职业数据'!$A:$A,0))&" / "&INDEX('职业数据'!$C:$C,MATCH($F8,'职业数据'!$A:$A,0)),"") | I8: =IFERROR(INDEX('职业数据'!$E:$E,MATCH($F8,'职业数据'!$A:$A,0)),"") | K8: =IF($D8="","",YEAR(TODAY())-VALUE(LEFT($D8,4))-IF(TEXT(TODAY(),"mmdd")<MID($D8,6,2)&MID($D8,9,2),1,0)) | L8: =IF($A8="","",IF($B8="身份证",IF($C8="","待填身份证号",IF(OR(LEN($C8)<>18,NOT(ISNUMBER(LEFT($C8,17)+0)),NOT(OR(ISNUMBER(RIGHT($C8,1)+0),UPPER(RIGHT($C8,1))="X"))),"身份证位数/字符异常",IF(OR(VALUE(MID($C8,11,2))<1,VALUE(MID($C8,11,2))>12,VALUE(MID($C8,13,2))<1,VALUE(MID($C8,13,2))>31),"身份证生日异常",IF(OR($K8<0,$K8>100),"年龄异常","通过")))),IF(OR($D8="",$E8=""),"非身份证请补生日和性别","通过")))
D9: =IF($B9<>"身份证","",IF(OR($C9="",LEN($C9)<>18,NOT(ISNUMBER(LEFT($C9,17)+0)),NOT(OR(ISNUMBER(RIGHT($C9,1)+0),UPPER(RIGHT($C9,1))="X"))),"",MID($C9,7,4)&"-"&MID($C9,11,2)&"-"&MID($C9,13,2))) | E9: =IF($D9<>"",IF(MOD(MID($C9,17,1),2)=1,"男","女"),"") | G9: =IFERROR(INDEX('职业数据'!$D:$D,MATCH($F9,'职业数据'!$A:$A,0)),"") | H9: =IFERROR(INDEX('职业数据'!$B:$B,MATCH($F9,'职业数据'!$A:$A,0))&" / "&INDEX('职业数据'!$C:$C,MATCH($F9,'职业数据'!$A:$A,0)),"") | I9: =IFERROR(INDEX('职业数据'!$E:$E,MATCH($F9,'职业数据'!$A:$A,0)),"") | K9: =IF($D9="","",YEAR(TODAY())-VALUE(LEFT($D9,4))-IF(TEXT(TODAY(),"mmdd")<MID($D9,6,2)&MID($D9,9,2),1,0)) | L9: =IF($A9="","",IF($B9="身份证",IF($C9="","待填身份证号",IF(OR(LEN($C9)<>18,NOT(ISNUMBER(LEFT($C9,17)+0)),NOT(OR(ISNUMBER(RIGHT($C9,1)+0),UPPER(RIGHT($C9,1))="X"))),"身份证位数/字符异常",IF(OR(VALUE(MID($C9,11,2))<1,VALUE(MID($C9,11,2))>12,VALUE(MID($C9,13,2))<1,VALUE(MID($C9,13,2))>31),"身份证生日异常",IF(OR($K9<0,$K9>100),"年龄异常","通过")))),IF(OR($D9="",$E9=""),"非身份证请补生日和性别","通过")))
D10: =IF($B10<>"身份证","",IF(OR($C10="",LEN($C10)<>18,NOT(ISNUMBER(LEFT($C10,17)+0)),NOT(OR(ISNUMBER(RIGHT($C10,1)+0),UPPER(RIGHT($C10,1))="X"))),"",MID($C10,7,4)&"-"&MID($C10,11,2)&"-"&MID($C10,13,2))) | E10: =IF($D10<>"",IF(MOD(MID($C10,17,1),2)=1,"男","女"),"") | G10: =IFERROR(INDEX('职业数据'!$D:$D,MATCH($F10,'职业数据'!$A:$A,0)),"") | H10: =IFERROR(INDEX('职业数据'!$B:$B,MATCH($F10,'职业数据'!$A:$A,0))&" / "&INDEX('职业数据'!$C:$C,MATCH($F10,'职业数据'!$A:$A,0)),"") | I10: =IFERROR(INDEX('职业数据'!$E:$E,MATCH($F10,'职业数据'!$A:$A,0)),"") | K10: =IF($D10="","",YEAR(TODAY())-VALUE(LEFT($D10,4))-IF(TEXT(TODAY(),"mmdd")<MID($D10,6,2)&MID($D10,9,2),1,0)) | L10: =IF($A10="","",IF($B10="身份证",IF($C10="","待填身份证号",IF(OR(LEN($C10)<>18,NOT(ISNUMBER(LEFT($C10,17)+0)),NOT(OR(ISNUMBER(RIGHT($C10,1)+0),UPPER(RIGHT($C10,1))="X"))),"身份证位数/字符异常",IF(OR(VALUE(MID($C10,11,2))<1,VALUE(MID($C10,11,2))>12,VALUE(MID($C10,13,2))<1,VALUE(MID($C10,13,2))>31),"身份证生日异常",IF(OR($K10<0,$K10>100),"年龄异常","通过")))),IF(OR($D10="",$E10=""),"非身份证请补生日和性别","通过")))
D11: =IF($B11<>"身份证","",IF(OR($C11="",LEN($C11)<>18,NOT(ISNUMBER(LEFT($C11,17)+0)),NOT(OR(ISNUMBER(RIGHT($C11,1)+0),UPPER(RIGHT($C11,1))="X"))),"",MID($C11,7,4)&"-"&MID($C11,11,2)&"-"&MID($C11,13,2))) | E11: =IF($D11<>"",IF(MOD(MID($C11,17,1),2)=1,"男","女"),"") | G11: =IFERROR(INDEX('职业数据'!$D:$D,MATCH($F11,'职业数据'!$A:$A,0)),"") | H11: =IFERROR(INDEX('职业数据'!$B:$B,MATCH($F11,'职业数据'!$A:$A,0))&" / "&INDEX('职业数据'!$C:$C,MATCH($F11,'职业数据'!$A:$A,0)),"") | I11: =IFERROR(INDEX('职业数据'!$E:$E,MATCH($F11,'职业数据'!$A:$A,0)),"") | K11: =IF($D11="","",YEAR(TODAY())-VALUE(LEFT($D11,4))-IF(TEXT(TODAY(),"mmdd")<MID($D11,6,2)&MID($D11,9,2),1,0)) | L11: =IF($A11="","",IF($B11="身份证",IF($C11="","待填身份证号",IF(OR(LEN($C11)<>18,NOT(ISNUMBER(LEFT($C11,17)+0)),NOT(OR(ISNUMBER(RIGHT($C11,1)+0),UPPER(RIGHT($C11,1))="X"))),"身份证位数/字符异常",IF(OR(VALUE(MID($C11,11,2))<1,VALUE(MID($C11,11,2))>12,VALUE(MID($C11,13,2))<1,VALUE(MID($C11,13,2))>31),"身份证生日异常",IF(OR($K11<0,$K11>100),"年龄异常","通过")))),IF(OR($D11="",$E11=""),"非身份证请补生日和性别","通过")))
D12: =IF($B12<>"身份证","",IF(OR($C12="",LEN($C12)<>18,NOT(ISNUMBER(LEFT($C12,17)+0)),NOT(OR(ISNUMBER(RIGHT($C12,1)+0),UPPER(RIGHT($C12,1))="X"))),"",MID($C12,7,4)&"-"&MID($C12,11,2)&"-"&MID($C12,13,2))) | E12: =IF($D12<>"",IF(MOD(MID($C12,17,1),2)=1,"男","女"),"") | G12: =IFERROR(INDEX('职业数据'!$D:$D,MATCH($F12,'职业数据'!$A:$A,0)),"") | H12: =IFERROR(INDEX('职业数据'!$B:$B,MATCH($F12,'职业数据'!$A:$A,0))&" / "&INDEX('职业数据'!$C:$C,MATCH($F12,'职业数据'!$A:$A,0)),"") | I12: =IFERROR(INDEX('职业数据'!$E:$E,MATCH($F12,'职业数据'!$A:$A,0)),"") | K12: =IF($D12="","",YEAR(TODAY())-VALUE(LEFT($D12,4))-IF(TEXT(TODAY(),"mmdd")<MID($D12,6,2)&MID($D12,9,2),1,0)) | L12: =IF($A12="","",IF($B12="身份证",IF($C12="","待填身份证号",IF(OR(LEN($C12)<>18,NOT(ISNUMBER(LEFT($C12,17)+0)),NOT(OR(ISNUMBER(RIGHT($C12,1)+0),UPPER(RIGHT($C12,1))="X"))),"身份证位数/字符异常",IF(OR(VALUE(MID($C12,11,2))<1,VALUE(MID($C12,11,2))>12,VALUE(MID($C12,13,2))<1,VALUE(MID($C12,13,2))>31),"身份证生日异常",IF(OR($K12<0,$K12>100),"年龄异常","通过")))),IF(OR($D12="",$E12=""),"非身份证请补生日和性别","通过")))
D13: =IF($B13<>"身份证","",IF(OR($C13="",LEN($C13)<>18,NOT(ISNUMBER(LEFT($C13,17)+0)),NOT(OR(ISNUMBER(RIGHT($C13,1)+0),UPPER(RIGHT($C13,1))="X"))),"",MID($C13,7,4)&"-"&MID($C13,11,2)&"-"&MID($C13,13,2))) | E13: =IF($D13<>"",IF(MOD(MID($C13,17,1),2)=1,"男","女"),"") | G13: =IFERROR(INDEX('职业数据'!$D:$D,MATCH($F13,'职业数据'!$A:$A,0)),"") | H13: =IFERROR(INDEX('职业数据'!$B:$B,MATCH($F13,'职业数据'!$A:$A,0))&" / "&INDEX('职业数据'!$C:$C,MATCH($F13,'职业数据'!$A:$A,0)),"") | I13: =IFERROR(INDEX('职业数据'!$E:$E,MATCH($F13,'职业数据'!$A:$A,0)),"") | K13: =IF($D13="","",YEAR(TODAY())-VALUE(LEFT($D13,4))-IF(TEXT(TODAY(),"mmdd")<MID($D13,6,2)&MID($D13,9,2),1,0)) | L13: =IF($A13="","",IF($B13="身份证",IF($C13="","待填身份证号",IF(OR(LEN($C13)<>18,NOT(ISNUMBER(LEFT($C13,17)+0)),NOT(OR(ISNUMBER(RIGHT($C13,1)+0),UPPER(RIGHT($C13,1))="X"))),"身份证位数/字符异常",IF(OR(VALUE(MID($C13,11,2))<1,VALUE(MID($C13,11,2))>12,VALUE(MID($C13,13,2))<1,VALUE(MID($C13,13,2))>31),"身份证生日异常",IF(OR($K13<0,$K13>100),"年龄异常","通过")))),IF(OR($D13="",$E13=""),"非身份证请补生日和性别","通过")))
D14: =IF($B14<>"身份证","",IF(OR($C14="",LEN($C14)<>18,NOT(ISNUMBER(LEFT($C14,17)+0)),NOT(OR(ISNUMBER(RIGHT($C14,1)+0),UPPER(RIGHT($C14,1))="X"))),"",MID($C14,7,4)&"-"&MID($C14,11,2)&"-"&MID($C14,13,2))) | E14: =IF($D14<>"",IF(MOD(MID($C14,17,1),2)=1,"男","女"),"") | G14: =IFERROR(INDEX('职业数据'!$D:$D,MATCH($F14,'职业数据'!$A:$A,0)),"") | H14: =IFERROR(INDEX('职业数据'!$B:$B,MATCH($F14,'职业数据'!$A:$A,0))&" / "&INDEX('职业数据'!$C:$C,MATCH($F14,'职业数据'!$A:$A,0)),"") | I14: =IFERROR(INDEX('职业数据'!$E:$E,MATCH($F14,'职业数据'!$A:$A,0)),"") | K14: =IF($D14="","",YEAR(TODAY())-VALUE(LEFT($D14,4))-IF(TEXT(TODAY(),"mmdd")<MID($D14,6,2)&MID($D14,9,2),1,0)) | L14: =IF($A14="","",IF($B14="身份证",IF($C14="","待填身份证号",IF(OR(LEN($C14)<>18,NOT(ISNUMBER(LEFT($C14,17)+0)),NOT(OR(ISNUMBER(RIGHT($C14,1)+0),UPPER(RIGHT($C14,1))="X"))),"身份证位数/字符异常",IF(OR(VALUE(MID($C14,11,2))<1,VALUE(MID($C14,11,2))>12,VALUE(MID($C14,13,2))<1,VALUE(MID($C14,13,2))>31),"身份证生日异常",IF(OR($K14<0,$K14>100),"年龄异常","通过")))),IF(OR($D14="",$E14=""),"非身份证请补生日和性别","通过")))
D15: =IF($B15<>"身份证","",IF(OR($C15="",LEN($C15)<>18,NOT(ISNUMBER(LEFT($C15,17)+0)),NOT(OR(ISNUMBER(RIGHT($C15,1)+0),UPPER(RIGHT($C15,1))="X"))),"",MID($C15,7,4)&"-"&MID($C15,11,2)&"-"&MID($C15,13,2))) | E15: =IF($D15<>"",IF(MOD(MID($C15,17,1),2)=1,"男","女"),"") | G15: =IFERROR(INDEX('职业数据'!$D:$D,MATCH($F15,'职业数据'!$A:$A,0)),"") | H15: =IFERROR(INDEX('职业数据'!$B:$B,MATCH($F15,'职业数据'!$A:$A,0))&" / "&INDEX('职业数据'!$C:$C,MATCH($F15,'职业数据'!$A:$A,0)),"") | I15: =IFERROR(INDEX('职业数据'!$E:$E,MATCH($F15,'职业数据'!$A:$A,0)),"") | K15: =IF($D15="","",YEAR(TODAY())-VALUE(LEFT($D15,4))-IF(TEXT(TODAY(),"mmdd")<MID($D15,6,2)&MID($D15,9,2),1,0)) | L15: =IF($A15="","",IF($B15="身份证",IF($C15="","待填身份证号",IF(OR(LEN($C15)<>18,NOT(ISNUMBER(LEFT($C15,17)+0)),NOT(OR(ISNUMBER(RIGHT($C15,1)+0),UPPER(RIGHT($C15,1))="X"))),"身份证位数/字符异常",IF(OR(VALUE(MID($C15,11,2))<1,VALUE(MID($C15,11,2))>12,VALUE(MID($C15,13,2))<1,VALUE(MID($C15,13,2))>31),"身份证生日异常",IF(OR($K15<0,$K15>100),"年龄异常","通过")))),IF(OR($D15="",$E15=""),"非身份证请补生日和性别","通过")))
D16: =IF($B16<>"身份证","",IF(OR($C16="",LEN($C16)<>18,NOT(ISNUMBER(LEFT($C16,17)+0)),NOT(OR(ISNUMBER(RIGHT($C16,1)+0),UPPER(RIGHT($C16,1))="X"))),"",MID($C16,7,4)&"-"&MID($C16,11,2)&"-"&MID($C16,13,2))) | E16: =IF($D16<>"",IF(MOD(MID($C16,17,1),2)=1,"男","女"),"") | G16: =IFERROR(INDEX('职业数据'!$D:$D,MATCH($F16,'职业数据'!$A:$A,0)),"") | H16: =IFERROR(INDEX('职业数据'!$B:$B,MATCH($F16,'职业数据'!$A:$A,0))&" / "&INDEX('职业数据'!$C:$C,MATCH($F16,'职业数据'!$A:$A,0)),"") | I16: =IFERROR(INDEX('职业数据'!$E:$E,MATCH($F16,'职业数据'!$A:$A,0)),"") | K16: =IF($D16="","",YEAR(TODAY())-VALUE(LEFT($D16,4))-IF(TEXT(TODAY(),"mmdd")<MID($D16,6,2)&MID($D16,9,2),1,0)) | L16: =IF($A16="","",IF($B16="身份证",IF($C16="","待填身份证号",IF(OR(LEN($C16)<>18,NOT(ISNUMBER(LEFT($C16,17)+0)),NOT(OR(ISNUMBER(RIGHT($C16,1)+0),UPPER(RIGHT($C16,1))="X"))),"身份证位数/字符异常",IF(OR(VALUE(MID($C16,11,2))<1,VALUE(MID($C16,11,2))>12,VALUE(MID($C16,13,2))<1,VALUE(MID($C16,13,2))>31),"身份证生日异常",IF(OR($K16<0,$K16>100),"年龄异常","通过")))),IF(OR($D16="",$E16=""),"非身份证请补生日和性别","通过")))
... D204: =IF($B204<>"身份证","",IF(OR($C204="",LEN($C204)<>18,NOT(ISNUMBER(LEFT($C204,17)+0)),NOT(OR(ISNUMBER(RIGHT($C204,1)+0),UPPER(RIGHT($C204,1))="X"))),"",MID($C204,7,4)&"-"&MID($C204,11,2)&"-"&MID($C204,13,2))) | E204: =IF($D204<>"",IF(MOD(MID($C204,17,1),2)=1,"男","女"),"") | G204: =IFERROR(INDEX('职业数据'!$D:$D,MATCH($F204,'职业数据'!$A:$A,0)),"") | H204: =IFERROR(INDEX('职业数据'!$B:$B,MATCH($F204,'职业数据'!$A:$A,0))&" / "&INDEX('职业数据'!$C:$C,MATCH($F204,'职业数据'!$A:$A,0)),"") | I204: =IFERROR(INDEX('职业数据'!$E:$E,MATCH($F204,'职业数据'!$A:$A,0)),"") | K204: =IF($D204="","",YEAR(TODAY())-VALUE(LEFT($D204,4))-IF(TEXT(TODAY(),"mmdd")<MID($D204,6,2)&MID($D204,9,2),1,0)) | L204: =IF($A204="","",IF($B204="身份证",IF($C204="","待填身份证号",IF(OR(LEN($C204)<>18,NOT(ISNUMBER(LEFT($C204,17)+0)),NOT(OR(ISNUMBER(RIGHT($C204,1)+0),UPPER(RIGHT($C204,1))="X"))),"身份证位数/字符异常",IF(OR(VALUE(MID($C204,11,2))<1,VALUE(MID($C204,11,2))>12,VALUE(MID($C204,13,2))<1,VALUE(MID($C204,13,2))>31),"身份证生日异常",IF(OR($K204<0,$K204>100),"年龄异常","通过")))),IF(OR($D204="",$E204=""),"非身份证请补生日和性别","通过")))

Sheet 职业查询
A1: 职业查询
A2: 使用方式：直接点击第 4 行筛选按钮，在“具体职业”“行业”或“职业细项”列里输入关键词搜索，找到后复制职业代码到“人员清单模板”工作表 F 列。
A3: 说明：Excel 原生支持“包含”搜索，适合做模糊查找；如果出现同名工种，请以行业和职业细项区分。
A4: 职业代码 | B4: 行业 | C4: 职业细项 | D4: 具体职业 | E4: 职业类别 | F4: 备注
A5: ZY0001 | B5: 一般职业 | C5: 机关内勤(不从事凶险工作) | D5: 机关内勤 | E5: 1类
A6: ZY0002 | B6: 一般职业 | C6: 机关外勤 | D6: 机关外勤 | E6: 2类
A7: ZY0003 | B7: 一般职业 | C7: 工厂管理人员 | D7: 工厂负责人（不亲自作业） | E7: 2类
A8: ZY0004 | B8: 一般职业 | C8: 工厂管理人员 | D8: 工厂厂长（不亲自作业） | E8: 2类
A9: ZY0005 | B9: 一般职业 | C9: 保安 | D9: 办公楼 | E9: 2类
A10: ZY0006 | B10: 一般职业 | C10: 保安 | D10: 物业 | E10: 2类
A11: ZY0007 | B11: 一般职业 | C11: 保安 | D11: 工厂 | E11: 2类
A12: ZY0008 | B12: 一般职业 | C12: 保安 | D12: 银行保安人员 | E12: 2类
A13: ZY0009 | B13: 一般职业 | C13: 采购人员 | D13: 采购人员 | E13: 2类
A14: ZY0010 | B14: 一般职业 | C14: 厨师 | D14: 厨师 | E14: 3类
A15: ZY0011 | B15: 一般职业 | C15: 室内清洁人员 | D15: 室内清洁人员 | E15: 3类 | F15: 调整
A16: ZY0012 | B16: 农牧业 | C16: 农场经营者 | D16: 农场经营者（不参与实际作业） | E16: 1类
A17: ZY0013 | B17: 农牧业 | C17: 农场经营者 | D17: 农具商（不参与实际作业） | E17: 1类
A18: ZY0014 | B18: 农牧业 | C18: 农场经营者 | D18: 牧场经营者（不参与实际作业） | E18: 1类
A19: ZY0015 | B19: 农牧业 | C19: 种植、饲养、畜牧人员 | D19: 农夫 | E19: 3类
A20: ZY0016 | B20: 农牧业 | C20: 种植、饲养、畜牧人员 | D20: 植物栽培 | E20: 3类
A21: ZY0017 | B21: 农牧业 | C21: 种植、饲养、畜牧人员 | D21: 家禽家畜饲养 | E21: 3类
A22: ZY0018 | B22: 农牧业 | C22: 种植、饲养、畜牧人员 | D22: 畜牧人员 | E22: 3类
A23: ZY0019 | B23: 农牧业 | C23: 种植、饲养、畜牧人员 | D23: 长短工 | E23: 4类 | F23: 调整
A24: ZY0020 | B24: 农牧业 | C24: 种植、饲养、畜牧人员 | D24: 果农 | E24: 3类
A25: ZY0021 | B25: 农牧业 | C25: 种植、饲养、畜牧人员 | D25: 昆虫(蜜蜂)饲养人员 | E25: 3类
A26: ZY0022 | B26: 农牧业 | C26: 种植、饲养、畜牧人员 | D26: 畜牧工作人员 | E26: 3类
A27: ZY0023 | B27: 农牧业 | C27: 糖厂技工 | D27: 糖厂技工 | E27: 4类
A28: ZY0024 | B28: 农牧业 | C28: 农用机器、车辆驾驶及修理人员 | D28: 联合收割机驾驶员 | E28: 4类
A29: ZY0025 | B29: 农牧业 | C29: 农用机器、车辆驾驶及修理人员 | D29: 农用机械操作及修理人员 | E29: 4类
A30: ZY0026 | B30: 农牧业 | C30: 农用机器、车辆驾驶及修理人员 | D30: 农用运输车驾驶员 | E30: 4类
A31: ZY0027 | B31: 农牧业 | C31: 农用机器、车辆驾驶及修理人员 | D31: 动物养殖人员 | E31: 4类
A32: ZY0028 | B32: 农牧业 | C32: 驯养人员 | D32: 驯养人员 | E32: 4类
A33: ZY0029 | B33: 农牧业 | C33: 沼气工程施工人员 | D33: 沼气工程施工人员 | E33: 5类
A34: ZY0030 | B34: 农牧业 | C34: 农业技术人员 | D34: 苗圃栽培人员 | E34: 2类
A35: ZY0031 | B35: 农牧业 | C35: 农业技术人员 | D35: 花圃栽培人员 | E35: 2类
... A266: ZY0262 | B266: 航空运输业 | C266: 行李货运搬运工人 | D266: 理货员 | E266: 4类
A267: ZY0263 | B267: 航空运输业 | C267: 站内清洁工 | D267: 站内清洁工人(航空大厦内) | E267: 3类 | F267: 调整
A268: ZY0264 | B268: 航空运输业 | C268: 站外清洁工 | D268: 清洁工(站外、航空大厦外) | E268: 4类
A269: ZY0265 | B269: 航空运输业 | C269: 机场修护人员 | D269: 飞机修护人员 | E269: 4类
A270: ZY0266 | B270: 航空运输业 | C270: 机场修护人员 | D270: 跑道维护工 | E270: 4类
...

Sheet 职业数据
A1: 职业代码 | B1: 行业 | C1: 职业细项 | D1: 具体职业 | E1: 职业类别 | F1: 备注
A2: ZY0001 | B2: 一般职业 | C2: 机关内勤(不从事凶险工作) | D2: 机关内勤 | E2: 1类
A3: ZY0002 | B3: 一般职业 | C3: 机关外勤 | D3: 机关外勤 | E3: 2类
A4: ZY0003 | B4: 一般职业 | C4: 工厂管理人员 | D4: 工厂负责人（不亲自作业） | E4: 2类
A5: ZY0004 | B5: 一般职业 | C5: 工厂管理人员 | D5: 工厂厂长（不亲自作业） | E5: 2类
A6: ZY0005 | B6: 一般职业 | C6: 保安 | D6: 办公楼 | E6: 2类
A7: ZY0006 | B7: 一般职业 | C7: 保安 | D7: 物业 | E7: 2类
A8: ZY0007 | B8: 一般职业 | C8: 保安 | D8: 工厂 | E8: 2类
A9: ZY0008 | B9: 一般职业 | C9: 保安 | D9: 银行保安人员 | E9: 2类
A10: ZY0009 | B10: 一般职业 | C10: 采购人员 | D10: 采购人员 | E10: 2类
A11: ZY0010 | B11: 一般职业 | C11: 厨师 | D11: 厨师 | E11: 3类
A12: ZY0011 | B12: 一般职业 | C12: 室内清洁人员 | D12: 室内清洁人员 | E12: 3类 | F12: 调整
A13: ZY0012 | B13: 农牧业 | C13: 农场经营者 | D13: 农场经营者（不参与实际作业） | E13: 1类
A14: ZY0013 | B14: 农牧业 | C14: 农场经营者 | D14: 农具商（不参与实际作业） | E14: 1类
A15: ZY0014 | B15: 农牧业 | C15: 农场经营者 | D15: 牧场经营者（不参与实际作业） | E15: 1类
A16: ZY0015 | B16: 农牧业 | C16: 种植、饲养、畜牧人员 | D16: 农夫 | E16: 3类
A17: ZY0016 | B17: 农牧业 | C17: 种植、饲养、畜牧人员 | D17: 植物栽培 | E17: 3类
A18: ZY0017 | B18: 农牧业 | C18: 种植、饲养、畜牧人员 | D18: 家禽家畜饲养 | E18: 3类
A19: ZY0018 | B19: 农牧业 | C19: 种植、饲养、畜牧人员 | D19: 畜牧人员 | E19: 3类
A20: ZY0019 | B20: 农牧业 | C20: 种植、饲养、畜牧人员 | D20: 长短工 | E20: 4类 | F20: 调整
A21: ZY0020 | B21: 农牧业 | C21: 种植、饲养、畜牧人员 | D21: 果农 | E21: 3类
A22: ZY0021 | B22: 农牧业 | C22: 种植、饲养、畜牧人员 | D22: 昆虫(蜜蜂)饲养人员 | E22: 3类
A23: ZY0022 | B23: 农牧业 | C23: 种植、饲养、畜牧人员 | D23: 畜牧工作人员 | E23: 3类
A24: ZY0023 | B24: 农牧业 | C24: 糖厂技工 | D24: 糖厂技工 | E24: 4类
A25: ZY0024 | B25: 农牧业 | C25: 农用机器、车辆驾驶及修理人员 | D25: 联合收割机驾驶员 | E25: 4类
A26: ZY0025 | B26: 农牧业 | C26: 农用机器、车辆驾驶及修理人员 | D26: 农用机械操作及修理人员 | E26: 4类
A27: ZY0026 | B27: 农牧业 | C27: 农用机器、车辆驾驶及修理人员 | D27: 农用运输车驾驶员 | E27: 4类
A28: ZY0027 | B28: 农牧业 | C28: 农用机器、车辆驾驶及修理人员 | D28: 动物养殖人员 | E28: 4类
A29: ZY0028 | B29: 农牧业 | C29: 驯养人员 | D29: 驯养人员 | E29: 4类
A30: ZY0029 | B30: 农牧业 | C30: 沼气工程施工人员 | D30: 沼气工程施工人员 | E30: 5类
A31: ZY0030 | B31: 农牧业 | C31: 农业技术人员 | D31: 苗圃栽培人员 | E31: 2类
A32: ZY0031 | B32: 农牧业 | C32: 农业技术人员 | D32: 花圃栽培人员 | E32: 2类
... A263: ZY0262 | B263: 航空运输业 | C263: 行李货运搬运工人 | D263: 理货员 | E263: 4类
A264: ZY0263 | B264: 航空运输业 | C264: 站内清洁工 | D264: 站内清洁工人(航空大厦内) | E264: 3类 | F264: 调整
A265: ZY0264 | B265: 航空运输业 | C265: 站外清洁工 | D265: 清洁工(站外、航空大厦外) | E265: 4类
A266: ZY0265 | B266: 航空运输业 | C266: 机场修护人员 | D266: 飞机修护人员 | E266: 4类
A267: ZY0266 | B267: 航空运输业 | C267: 机场修护人员 | D267: 跑道维护工 | E267: 4类
A268: ZY0267 | B268: 航空运输业 | C268: 机场修护人员 | D268: 飞机洗刷人员 | E268: 4类
A269: ZY0268 | B269: 航空运输业 | C269: 机场修护人员 | D269: 机械员 | E269: 4类
A270: ZY0269 | B270: 航空运输业 | C270: 机场修护人员 | D270: 加添燃料人员 | E270: 4类
...
